Workbook
Name _Toc483664829: PHANKY!$A$6
Name _Toc483664830: PHANKY!$A$7

Sheet TỔNG GIÁ TRỊ
A1: TỔNG GIÁ TRỊ DỰ ÁN
A3: TT | B3: Nội dung đầu tư | C3: ĐVT | D3: Số lượng | E3: Đơn giá | F3: Thành tiền
A4: A- HOẠT ĐỘNG ĐÁNH GIÁ (I+II) | F4: =F5+F9 -> 1278354192
A5: I | B5: Phí xem xét, đánh giá | F5: =F6+F7+F8 -> 609000000
A6: 1 | B6: Xem xét, đánh giá | C6: Chương trình | D6: 2 | E6: 22500000 | F6: =D6*E6 -> 45000000
A7: 2 | B7: Phí đánh giá tại chỗ (địa điểm trường) | C7: Cơ sở | D7: 1 | E7: 188000000 | F7: =D7*E7 -> 188000000
A8: 3 | B8: Đánh giá viên | C8: Chương trình | D8: 2 | E8: 188000000 | F8: =D8*E8 -> 376000000
A9: II | B9: Sinh hoạt phí cho các chuyên gia ABET tham gia đánh giá | F9: =F10+F11+F12+F13+F14 -> 669354192
A10: 1 | B10: Vé máy bay | C10: Người | D10: 3 | E10: 162792000 | F10: =D10*E10 -> 488376000
A11: 2 | B11: Thông dịch viên | C11: Người | D11: 3 | E11: 13953600 | F11: =D11*E11 -> 41860800
A12: 3 | B12: Lệ phí thị thực | C12: Người | D12: 3 | E12: 3488400 | F12: =D12*E12 -> 10465200
A13: 4 | B13: Khách sạn (REX) | C13: Ngày | D13: 5 | E13: 17442000 | F13: =D13*E13 -> 87210000
A14: 5 | B14: Ăn | C14: Người | D14: 3 | E14: 13814064 | F14: =D14*E14 -> 41442192
A15: B- HOẠT ĐỘNG ĐẦU TƯ DỰ ÁN | F15: =F16+F17+F20+F23+F24 -> 201307090000
A16: 1 | B16: Xây dựng chương trình | C16: Chương trình | D16: 2 | E16: 520000000 | F16: =D16*E16 -> 1040000000
A17: 2 | B17: Đào tạo bồi dưỡng đội ngũ | F17: =F18+F19 -> 337000000
A18: 2.1 | B18: Chuyên ngành Cơ khí | F18: =DAUTU!F5 -> 156500000
A19: 2.2 | B19: Chuyên ngành Điện | F19: =DAUTU!F6 -> 180500000
A20: 3 | B20: Máy móc thiết bị đào tạo | F20: =F21+F22 -> 194330090000
A21: 3.1 | B21: Chuyên ngành Cơ khí | F21: =DAUTU!F8 -> 183383660000
A22: 3.2 | B22: Chuyên ngành Điện | F22: =DAUTU!F9 -> 10946430000
A23: 4 | B23: Đầu tư Thư viện | F23: =DAUTU!F10 -> 5000000000
A24: 5 | B24: Đầu tư các hoạt động quản lý | F24: =F25+F26 -> 600000000
A25: 5.1 | B25: Xây dựng hệ thống quản lý chất lượng, phần mềm quản lý | F25: =DAUTU!F12 -> 300000000
A26: 5.2 | B26: Nâng cấp cơ sở hạ tầng thông tin, đường truyền | F26: =DAUTU!F13 -> 300000000
A27: C | B27: Chi phí dự án | F27: =SUM(F28:F33) -> 1.2058885e+10
A28: 1 | B28: Chi phí tư vấn | F28: 2447894214
A29: 2 | B29: Chi phí thẩm tra quyết toán vốn | F29: 1397673064
A30: 3 | B30: Chi phí kiểm toán | F30: 2128640012
A31: 4 | B31: Chi phí thẩm định dự án | F31: 6311332
A32: 5 | B32: Chi phí quản lý dự án | F32: =211434749892*1.518% -> 3.2095795e+09 | G32: 0.01518
A33: 6 | B33: Chi phí dự phòng | F33: 2868787078
B34: CỘNG (A+B+C) | F34: =F4+F15+F27 -> 2.1464433e+11
B35: Tổng giá trị để thực hiện dự án | D35: : | E35: =F34 -> 2.1464433e+11 | F35: VNĐ
B36: Trong đó: - Máy móc thiết bị đào tạo | D36: : | E36: =F20 -> 194330090000 | F36: VNĐ (1)
B37: - Chi phí thực hiện dự án | D37: : | E37: =E35-E36 -> 2.0314239e+10 | F37: VNĐ (2)
B38: Nguồn kinh phí thực hiện:
A39: (1a) | B39: - Từ dự án theo QĐ 2805 của UBNDTP | D39: : | E39: =F21 -> 183383660000 | F39: VNĐ
A40: (1b) | B40: - Nguồn kinh phí địa phương (UBNDTP) | D40: : | E40: =E36-E39 -> 10946430000 | F40: VNĐ
B41: - Nguồn ngân sách cấp | D41: : | E41: =E37-E42 -> 1.9298527e+10 | F41: VNĐ
...

Sheet KIEMDINH
A6: TT | B6: Nội dung đầu tư | C6: ĐVT | D6: Số lượng | E6: Đơn giá | F6: Thành tiền | G6: Ghi chú
A7: I | B7: Phí xem xét, đánh giá
A8: 1 | B8: Xem xét, đánh giá | C8: Chương trình | D8: 2 | E8: 22500000 | F8: =D8*E8 -> 45000000
A9: 2 | B9: Phí đánh giá tại chỗ (địa điểm trường) | C9: Cơ sở | D9: 1 | E9: 188000000 | F9: =D9*E9 -> 188000000
A10: 3 | B10: Đánh giá viên | C10: Chương trình | D10: 2 | E10: 188000000 | F10: =D10*E10 -> 376000000
B11: CộNG I | F11: =SUM(F8:F10) -> 609000000
A12: II | B12: Sinh hoạt phí cho các chuyên gia ABET tham gia đánh giá
A13: 1 | B13: Vé máy bay | C13: Người | D13: 3 | E13: 162792000 | F13: =D13*E13 -> 488376000 | G13: Gồm 1 trưởng đoàn, 02 đánh giá viên
A14: 2 | B14: Thông dịch viên | C14: Người | D14: 3 | E14: 13953600 | F14: =D14*E14 -> 41860800
A15: 3 | B15: Lệ phí thị thực | C15: Người | D15: 3 | E15: 3488400 | F15: =D15*E15 -> 10465200
A16: 4 | B16: Khách sạn (REX) | C16: Ngày | D16: 5 | E16: 17442000 | F16: =D16*E16 -> 87210000
A17: 5 | B17: Ăn | C17: Người | D17: 3 | E17: 13814064 | F17: =D17*E17 -> 41442192
B18: CỘNG II | F18: =SUM(F13:F17) -> 669354192
B19: I +II | F19: =F11+F18 -> 1278354192
B20: (Bảng tính dựa trên tỉ giá 1 USD/23.256đ)

Sheet DAUTU
F1: ĐVT: đồng
A2: TT | B2: Nội dung đầu tư | C2: ĐVT | D2: Số lượng | E2: Đơn giá | F2: Thành tiền
A3: 1 | B3: Xây dựng chương trình đào tạo | C3: 2 | F3: =D3*E3 -> 0
A4: 2 | B4: Đào tạo bồi dưỡng đội ngũ | F4: =F5+F6 -> 337000000
A5: 2.1 | B5: Chuyên ngành Cơ khí | F5: 156500000
A6: 2.2 | B6: Chuyên ngành Điện | F6: 180500000
A7: 3 | B7: Máy móc thiết bị đào tạo | F7: =F8+F9 -> 194330090000
A8: 3.1 | B8: Chuyên ngành Cơ khí | F8: 183383660000
A9: 3.2 | B9: Chuyên ngành Điện | F9: 10946430000
A10: 4 | B10: Đầu tư Thư viện | F10: 5000000000
A11: 5 | B11: Đầu tư các hoạt động quản lý | F11: =F12+F13 -> 600000000
A12: 5.1 | B12: Xây dựng hệ thống quản lý chất lượng, phần mềm quản lý | F12: 300000000
A13: 5.2 | B13: Nâng cấp cơ sở hạ tầng thông tin, đường truyền | F13: 300000000
B14: Tổng cộng | F14: =F3+F4+F7+F10+F11 -> 200267090000

Sheet CHIPHI
A6: TT | B6: Nội dung đầu tư | C6: ĐVT | D6: Số lượng | E6: Đơn giá
B7: Chi phí lập dự án
B8: Chi phí quản lý dự án
B9: Chi phí thẩm định dự án
B10: Chi phí dự phòng
B11: Tổng cộng

Sheet PHANKY
G2: ĐVT: đồng
A3: TT | B3: Nội dung đầu tư | C3: Giá trị đầu tư
C4: Tổng giá trị | D4: Năm 2018 | E4: Năm 2019 | F4: Năm 2020 | G4: Năm 2021
A5: I | B5: Phí kiểm định (ABET)
A6: 1 | B6: Xem xét, đánh giá | C6: =D6+E6+F6+G6 -> 609000000 | E6: =KIEMDINH!F11 -> 609000000
A7: 2 | B7: Sinh hoạt phí của đoàn đánh giá | C7: =D7+E7+F7+G7 -> 669354192 | G7: =KIEMDINH!F18 -> 669354192
B8: Cộng I | C8: =SUM(C6:C7) -> 1278354192
A9: II | B9: Kinh phí đầu tư hỗ trợ hoạt động kiểm định
A10: 1 | B10: Xây dựng chương trình đào tạo | C10: =D10+E10+F10+G10 -> 0
A11: 2 | B11: Đào tạo bồi dưỡng đội ngũ | C11: =D11+E11+F11+G11 -> 0
A12: 3 | B12: Máy móc thiết bị đào tạo | C12: =D12+E12+F12+G12 -> 0
A13: 4 | B13: Đầu tư Thư viện | C13: =D13+E13+F13+G13 -> 5000000000 | D13: =DAUTU!F10 -> 5000000000
A14: 5 | B14: Đầu tư các hoạt động quản lý | C14: =D14+E14+F14+G14 -> 600000000 | D14: =DAUTU!F11 -> 600000000
B15: Cộng II | C15: =D15+E15+F15+G15 -> 0
A16: III | B16: Chi phí dự án
A17: 1 | B17: Chi phí lập dự án
A18: 2 | B18: Chi phí quản lý dự án
A19: 3 | B19: Chi phí thẩm định dự án
A20: 4 | B20: Chi phí dự phòng
B21: CỘNG I+II | C21: =SUM(C10:C15) -> 5600000000

Sheet Sheet3
